BEGIN:VCALENDAR
VERSION:2.0
PRODID:-//ChamberMaster//Event Calendar 2.0//EN
METHOD:PUBLISH
X-PUBLISHED-TTL:P1H
REFRESH-INTERVAL:P1H
CALSCALE:GREGORIAN
BEGIN:VTIMEZONE
TZID:America/New_York
BEGIN:DAYLIGHT
RRULE:FREQ=YEARLY;BYMONTH=3;BYDAY=2SU
DTSTART:20070101T000000
TZOFFSETFROM:-0500
TZOFFSETTO:-0400
TZNAME:Eastern Daylight Time
END:DAYLIGHT
BEGIN:STANDARD
RRULE:FREQ=YEARLY;BYMONTH=11;BYDAY=1SU
DTSTART:20070101T000000
TZOFFSETFROM:-0400
TZOFFSETTO:-0500
TZNAME:Eastern Standard Time
END:STANDARD
END:VTIMEZONE
BEGIN:VEVENT
DTSTART;TZID=America/New_York:20260521T163000
DTEND;TZID=America/New_York:20260521T170000
X-MICROSOFT-CDO-ALLDAYEVENT:FALSE
SUMMARY:Ribbon Cutting for Neeley Built Homes
DESCRIPTION:At Neeley Built Homes\, we specialize in kitchens\, basements\, bathrooms and new builds.  We deliver exceptional craftsmanship grounded in transparency and integrity\, ensuring each project reflects your style and functionality.  Our dedicated team expertly brings your vision to life with precision and creativity.
X-ALT-DESC;FMTTYPE=text/html:At Neeley Built Homes\, we specialize in kitchens\, basements\, bathrooms and new builds.  We deliver exceptional craftsmanship grounded in transparency and integrity\, ensuring each project reflects your style and functionality.  Our dedicated team expertly brings your vision to life with precision and creativity.
LOCATION:696 1st Avenue East Ellijay GA 30540
UID:e.3800.1449392
SEQUENCE:3
DTSTAMP:20260426T004526Z
URL:https://business.gilmerchamber.com/chamber-events/Details/ribbon-cutting-for-neeley-built-homes-1716836?sourceTypeId=Hub
END:VEVENT
END:VCALENDAR
