BEGIN:VCALENDAR
VERSION:2.0
PRODID:-//ChamberMaster//Event Calendar 2.0//EN
METHOD:PUBLISH
X-PUBLISHED-TTL:P1H
REFRESH-INTERVAL:P1H
CALSCALE:GREGORIAN
BEGIN:VTIMEZONE
TZID:America/New_York
BEGIN:DAYLIGHT
RRULE:FREQ=YEARLY;BYMONTH=3;BYDAY=2SU
DTSTART:20070101T000000
TZOFFSETFROM:-0500
TZOFFSETTO:-0400
TZNAME:Eastern Daylight Time
END:DAYLIGHT
BEGIN:STANDARD
RRULE:FREQ=YEARLY;BYMONTH=11;BYDAY=1SU
DTSTART:20070101T000000
TZOFFSETFROM:-0400
TZOFFSETTO:-0500
TZNAME:Eastern Standard Time
END:STANDARD
END:VTIMEZONE
BEGIN:VEVENT
DTSTART;TZID=America/New_York:20260507T163000
DTEND;TZID=America/New_York:20260507T170000
X-MICROSOFT-CDO-ALLDAYEVENT:FALSE
SUMMARY:Ribbon Cutting for Kevin Panter Insurance
DESCRIPTION:Please join us for a ribbon cutting celebrating Kevin Panter Insurance! This event will be held on Thursday\, May 7th at 4:30pm.Kevin Panter Insurance is a locally owned\, independent insurance agency based in North Georgia\, serving individuals\, families\, and businesses across the region\, including Ellijay\, Blue Ridge\, and surrounding communities. With roots dating back to over 30 years\, the agency has built a strong reputation in North Georgia for reliability\, expertise\, and community involvement. It serves both personal\, commercial\, life and health insurance clients while maintaining a commitment to local service and trust. As an independent agency\, we work with a range of top-rated carriers to provide flexible options and competitive pricing.Our approach is simple: take the time to understand your situation\, offer clear guidance\, and build lasting relationships rooted in honesty and reliability. The agency offers a wide range of insurance products\, including:Homeowners insuranceAuto insuranceLife and health insuranceBusiness and commercial coverageMedicare and specialty policiesAt Kevin Panter Insurance\, we're more than just a policy provider we're your partner in protection\, committed to helping you safeguard what matters most.Our office hours are Monday-Friday 8:30 a.m. - 5:00 p.m.
X-ALT-DESC;FMTTYPE=text/html:<!DOCTYPE html><html><head><title></title></head><body aria-disabled="false"><p><span style="font-size: 18px\;">Please join us for a ribbon cutting celebrating Kevin Panter Insurance! This event will be held on Thursday\, May 7th at 4:30pm.</span></p><p><span style="font-size: 18px\;">Kevin Panter Insurance is a locally owned\, independent insurance agency based in North Georgia\, serving individuals\, families\, and businesses across the region\, including Ellijay\, Blue Ridge\, and surrounding communities. With roots dating back to over 30 years\, the agency has built a strong reputation in North Georgia for reliability\, expertise\, and community involvement. It serves both personal\, commercial\, life and health insurance clients while maintaining a commitment to local service and trust. As an independent agency\, we work with a range of top-rated carriers to provide flexible options and competitive pricing.</span></p><p><span style="font-size: 18px\;">Our approach is simple: take the time to understand your situation\, offer clear guidance\, and build lasting relationships rooted in honesty and reliability. The agency offers a wide range of insurance products\, including:</span></p><ul fr-original-style="" style="list-style-position: inside\;"><li style="font-size: 18px\;">Homeowners insurance</li><li style="font-size: 18px\;">Auto insurance</li><li style="font-size: 18px\;">Life and health insurance</li><li style="font-size: 18px\;">Business and commercial coverage</li><li style="font-size: 18px\;">Medicare and specialty policies</li></ul><p><span style="font-size: 18px\;">At Kevin Panter Insurance\, we&rsquo\;re more than just a policy provider&mdash\;we&rsquo\;re your partner in protection\, committed to helping you safeguard what matters most.</span></p><p><span style="font-size: 18px\;">Our office hours are Monday-Friday 8:30 a.m. - 5:00 p.m.</span></p></body></html>
LOCATION:145 Mulberry Street Ellijay GA 30540
UID:e.3800.1439346
SEQUENCE:3
DTSTAMP:20260426T004602Z
URL:https://business.gilmerchamber.com/chamber-events/Details/ribbon-cutting-for-kevin-panter-insurance-1703760?sourceTypeId=Hub
END:VEVENT
END:VCALENDAR
