BEGIN:VCALENDAR
VERSION:2.0
PRODID:-//ChamberMaster//Event Calendar 2.0//EN
METHOD:PUBLISH
X-PUBLISHED-TTL:P1H
REFRESH-INTERVAL:P1H
CALSCALE:GREGORIAN
BEGIN:VTIMEZONE
TZID:America/New_York
BEGIN:DAYLIGHT
RRULE:FREQ=YEARLY;BYMONTH=3;BYDAY=2SU
DTSTART:20070101T000000
TZOFFSETFROM:-0500
TZOFFSETTO:-0400
TZNAME:Eastern Daylight Time
END:DAYLIGHT
BEGIN:STANDARD
RRULE:FREQ=YEARLY;BYMONTH=11;BYDAY=1SU
DTSTART:20070101T000000
TZOFFSETFROM:-0400
TZOFFSETTO:-0500
TZNAME:Eastern Standard Time
END:STANDARD
END:VTIMEZONE
BEGIN:VEVENT
DTSTART;TZID=America/New_York:20260519T163000
DTEND;TZID=America/New_York:20260519T170000
X-MICROSOFT-CDO-ALLDAYEVENT:FALSE
SUMMARY:Ribbon Cutting for Carver Plumbing of North Ga\, LLC
DESCRIPTION:Please join us for a ribbon cutting celebrating Carver Plumbing of North Ga\, LLC! This event will be held on Tuesday\, May 19th at 4:30pm.Carver Plumbing of North Ga\, LLC is a locally owned and operated plumbing company proudly serving Ellijay\, Gilmer County\, and the surrounding North Georgia communities. We specialize in residential and commercial plumbing services\, including new construction\, remodels\, service work\, water heater installation and replacement\, tankless water heaters\, sewer and water line repairs\, and more.The business has deep local roots dating back to 1992\, when Jonathan's father\, Neal Carver\, started the company and built a strong reputation for quality workmanship and dependable service. As of January 1\, 2026\, ownership officially transitioned to Jonathan and Andrea Carver\, who are honored to continue that legacy and serve the community with the same values customers have trusted for years.Jonathan Carver is a licensed and insured Unrestricted Master Plumber with years of hands-on experience in the plumbing trade. Together\, Jonathan and Andrea are excited to lead Carver Plumbing of North Ga\, LLC into its next chapter while continuing to serve customers with professionalism and integrity.The ribbon cutting celebration marks an exciting new beginning\, and Carver Plumbing of North Ga looks forward to many more years of serving North Georgia families\, businesses\, and builders.We are thankful for the support of our customers\, builders\, and community as we begin this new chapter.
X-ALT-DESC;FMTTYPE=text/html:<!DOCTYPE html><html><head><title></title></head><body aria-disabled="false"><p><span style="font-size: 18px\;">Please join us for a ribbon cutting celebrating Carver Plumbing of North Ga\, LLC! This event will be held on Tuesday\, May 19th at 4:30pm.</span></p><p><span style="font-size: 18px\;">Carver Plumbing of North Ga\, LLC is a locally owned and operated plumbing company proudly serving Ellijay\, Gilmer County\, and the surrounding North Georgia communities. We specialize in residential and commercial plumbing services\, including new construction\, remodels\, service work\, water heater installation and replacement\, tankless water heaters\, sewer and water line repairs\, and more.</span></p><p><span style="font-size: 18px\;">The business has deep local roots dating back to 1992\, when Jonathan&rsquo\;s father\, Neal Carver\, started the company and built a strong reputation for quality workmanship and dependable service. As of January 1\, 2026\, ownership officially transitioned to Jonathan and Andrea Carver\, who are honored to continue that legacy and serve the community with the same values customers have trusted for years.</span></p><p><span style="font-size: 18px\;">Jonathan Carver is a licensed and insured Unrestricted Master Plumber with years of hands-on experience in the plumbing trade. Together\, Jonathan and Andrea are excited to lead Carver Plumbing of North Ga\, LLC into its next chapter while continuing to serve customers with professionalism and integrity.</span></p><p><span style="font-size: 18px\;">The ribbon cutting celebration marks an exciting new beginning\, and Carver Plumbing of North Ga looks forward to many more years of serving North Georgia families\, businesses\, and builders.</span></p><p><span style="font-size: 18px\;">We are thankful for the support of our customers\, builders\, and community as we begin this new chapter.</span></p></body></html>
LOCATION:1356 Homer Wright Road Talking Rock GA 30175
UID:e.3800.1446435
SEQUENCE:3
DTSTAMP:20260426T004943Z
URL:https://business.gilmerchamber.com/chamber-events/Details/ribbon-cutting-for-carver-plumbing-of-north-ga-llc-1713167?sourceTypeId=Hub
END:VEVENT
END:VCALENDAR
