BEGIN:VCALENDAR
VERSION:2.0
PRODID:-//ChamberMaster//Event Calendar 2.0//EN
METHOD:PUBLISH
X-PUBLISHED-TTL:P1H
REFRESH-INTERVAL:P1H
CALSCALE:GREGORIAN
BEGIN:VTIMEZONE
TZID:America/New_York
BEGIN:DAYLIGHT
RRULE:FREQ=YEARLY;BYMONTH=3;BYDAY=2SU
DTSTART:20070101T000000
TZOFFSETFROM:-0500
TZOFFSETTO:-0400
TZNAME:Eastern Daylight Time
END:DAYLIGHT
BEGIN:STANDARD
RRULE:FREQ=YEARLY;BYMONTH=11;BYDAY=1SU
DTSTART:20070101T000000
TZOFFSETFROM:-0400
TZOFFSETTO:-0500
TZNAME:Eastern Standard Time
END:STANDARD
END:VTIMEZONE
BEGIN:VEVENT
DTSTART;TZID=America/New_York:20251128T120000
DTEND;TZID=America/New_York:20251128T190000
X-MICROSOFT-CDO-ALLDAYEVENT:FALSE
SUMMARY:Merry Mountain Town
DESCRIPTION:Join us in Downtown Ellijay on November 28th\, 2025\, as we kick off the holidays at Ellijay's Merry Mountain Town! Downtown Ellijay will come alive with twinkling lights\, joyful music\, festive shops\, and plenty of small-town charm in every corner. Plan your next mountain getaway and discover why North Georgia is the perfect place to slow down and create special memories.Broad Street will transform into a festive wonderland\, lined with cheerful arts & crafts vendors\, face painting\, and delicious seasonal treats. Visit between 12:00 PM and 5:00 PM for a special meet-and-greet and photo with Santa\, available for your family and pets with a $10 donation (benefiting the Friends of Gilmer Animal Shelter).At 6:00 PM\, gather along the streets of Downtown Ellijay for the Merry Mountain Town Parade featuring cheerful floats\, plenty of holiday spirit\, and the official lighting of the town Christmas tree. Register for the parade here  Plus\, enjoy the annual Merry Mountain Town decorating competition kick-off! Stop by the Downtown Welcome Center for your map\, browse the window and light displays around downtown\, and return to vote for your favorite entry.
X-ALT-DESC;FMTTYPE=text/html:<!DOCTYPE html><html><head><title></title></head><body aria-disabled="false"><p><span style="font-size: 18px\; font-family: Arial\, Helvetica\, sans-serif\;">Join us in Downtown Ellijay on November 28th\, 2025\, as we kick off the holidays at Ellijay&rsquo\;s Merry Mountain Town! Downtown Ellijay will come alive with twinkling lights\, joyful music\, festive shops\, and plenty of small-town charm in every corner. Plan your next mountain getaway and discover why North Georgia is the perfect place to slow down and create special memories.</span></p><p><span style="font-family: Arial\,Helvetica\,sans-serif\;"><span style="font-size: 18px\;"><meta charset="utf-8"></span></span></p><p style='box-sizing: border-box\; -webkit-font-smoothing: antialiased\; margin: 2rem 0px 0px\; padding: 0px\; border: 0px\; outline: 0px\; font-size: 20px\; vertical-align: baseline\; background: rgb(255\, 255\, 255)\; font-weight: 400\; color: rgb(65\, 62\, 62)\; font-family: "DM Sans"\, arial\, sans-serif\; font-style: normal\; font-variant-ligatures: normal\; font-variant-caps: normal\; letter-spacing: normal\; orphans: 2\; text-align: start\; text-indent: 0px\; text-transform: none\; widows: 2\; word-spacing: 0px\; -webkit-text-stroke-width: 0px\; white-space: normal\; text-decoration-thickness: initial\; text-decoration-style: initial\; text-decoration-color: initial\;'><span style="font-family: Arial\,Helvetica\,sans-serif\;"><span style="font-size: 18px\; color: rgb(0\, 0\, 0)\;">Broad Street will transform into a festive wonderland\, lined with cheerful arts &amp\; crafts vendors\, face painting\, and delicious seasonal treats. Visit between 12:00 PM and 5:00 PM for a special meet-and-greet and photo with Santa\, available for your family and pets with a $10 donation (benefiting the Friends of Gilmer Animal Shelter).</span></span></p><p style='box-sizing: border-box\; -webkit-font-smoothing: antialiased\; margin: 2rem 0px 0px\; padding: 0px\; border: 0px\; outline: 0px\; font-size: 20px\; vertical-align: baseline\; background: rgb(255\, 255\, 255)\; font-weight: 400\; color: rgb(65\, 62\, 62)\; font-family: "DM Sans"\, arial\, sans-serif\; font-style: normal\; font-variant-ligatures: normal\; font-variant-caps: normal\; letter-spacing: normal\; orphans: 2\; text-align: start\; text-indent: 0px\; text-transform: none\; widows: 2\; word-spacing: 0px\; -webkit-text-stroke-width: 0px\; white-space: normal\; text-decoration-thickness: initial\; text-decoration-style: initial\; text-decoration-color: initial\;'><span style="font-family: Arial\,Helvetica\,sans-serif\;"><span style="font-size: 18px\;"><span style="color: rgb(0\, 0\, 0)\;">At 6:00 PM\, gather along the streets of Downtown Ellijay for the</span> <strong fr-original-style="box-sizing: border-box\; -webkit-font-smoothing: antialiased\; margin: 0px\; padding: 0px\; border: 0px\; outline: 0px\; font-size: 20px\; vertical-align: baseline\; background: rgba(0\, 0\, 0\, 0)\; font-weight: 700\;" style="box-sizing: border-box\; -webkit-font-smoothing: antialiased\; margin: 0px\; padding: 0px\; border: 0px\; outline: 0px\; font-size: 20px\; vertical-align: baseline\; background: rgba(0\, 0\, 0\, 0)\; font-weight: 700\;"><a fr-original-style="box-sizing: border-box\; -webkit-font-smoothing: antialiased\; margin: 0px\; padding: 0px\; border: 0px\; outline: 0px\; font-size: 20px\; vertical-align: baseline\; background: rgba(0\, 0\, 0\, 0)\; color: rgb(53\, 112\, 155)\; text-decoration: none\; transition: 0.175s linear\;" href="https://www.gilmerchamber.com/event/merry-mountain-town-parade/" style="box-sizing: border-box\; -webkit-font-smoothing: antialiased\; margin: 0px\; padding: 0px\; border: 0px\; outline: 0px\; font-size: 20px\; vertical-align: baseline\; background: rgba(0\, 0\, 0\, 0)\; color: rgb(53\, 112\, 155)\; text-decoration: none\; transition: 0.175s linear\; user-select: auto\;">Merry Mountain Town Parade</a></strong> <span style="color: rgb(0\, 0\, 0)\;">featuring cheerful floats\, plenty of holiday spirit\, and the official lighting of the town Christmas tree.</span> <a fr-original-style="box-sizing: border-box\; -webkit-font-smoothing: antialiased\; margin: 0px\; padding: 0px\; border: 0px\; outline: 0px\; font-size: 20px\; vertical-align: baseline\; background: rgba(0\, 0\, 0\, 0)\; color: rgb(53\, 112\, 155)\; text-decoration: none\; transition: 0.175s linear\;" href="https://www.eventeny.com/events/vendor/?id=38454" rel="noreferrer noopener" style="box-sizing: border-box\; -webkit-font-smoothing: antialiased\; margin: 0px\; padding: 0px\; border: 0px\; outline: 0px\; font-size: 20px\; vertical-align: baseline\; background: rgba(0\, 0\, 0\, 0)\; color: rgb(53\, 112\, 155)\; text-decoration: none\; transition: 0.175s linear\; user-select: auto\;" target="_blank"><strong fr-original-style="box-sizing: border-box\; -webkit-font-smoothing: antialiased\; margin: 0px\; padding: 0px\; border: 0px\; outline: 0px\; font-size: 20px\; vertical-align: baseline\; background: rgba(0\, 0\, 0\, 0)\; font-weight: 700\;" style="box-sizing: border-box\; -webkit-font-smoothing: antialiased\; margin: 0px\; padding: 0px\; border: 0px\; outline: 0px\; font-size: 20px\; vertical-align: baseline\; background: rgba(0\, 0\, 0\, 0)\; font-weight: 700\;">Register for the parade here &gt\;</strong></a></span></span></p><p style='box-sizing: border-box\; -webkit-font-smoothing: antialiased\; margin: 2rem 0px 0px\; padding: 0px\; border: 0px\; outline: 0px\; font-size: 20px\; vertical-align: baseline\; background: rgb(255\, 255\, 255)\; font-weight: 400\; color: rgb(65\, 62\, 62)\; font-family: "DM Sans"\, arial\, sans-serif\; font-style: normal\; font-variant-ligatures: normal\; font-variant-caps: normal\; letter-spacing: normal\; orphans: 2\; text-align: start\; text-indent: 0px\; text-transform: none\; widows: 2\; word-spacing: 0px\; -webkit-text-stroke-width: 0px\; white-space: normal\; text-decoration-thickness: initial\; text-decoration-style: initial\; text-decoration-color: initial\;'><span style="font-size: 18px\; font-family: Arial\, Helvetica\, sans-serif\;"><span style="color: rgb(0\, 0\, 0)\;">Plus\, enjoy the annual</span> <a fr-original-style="box-sizing: border-box\; -webkit-font-smoothing: antialiased\; margin: 0px\; padding: 0px\; border: 0px\; outline: 0px\; font-size: 20px\; vertical-align: baseline\; background: rgba(0\, 0\, 0\, 0)\; color: rgb(53\, 112\, 155)\; text-decoration: none\; transition: 0.175s linear\;" href="https://www.gilmerchamber.com/merrymountaintown/" style="box-sizing: border-box\; -webkit-font-smoothing: antialiased\; margin: 0px\; padding: 0px\; border: 0px\; outline: 0px\; font-size: 20px\; vertical-align: baseline\; background: rgba(0\, 0\, 0\, 0)\; color: rgb(53\, 112\, 155)\; text-decoration: none\; transition: 0.175s linear\; user-select: auto\;"><strong fr-original-style="box-sizing: border-box\; -webkit-font-smoothing: antialiased\; margin: 0px\; padding: 0px\; border: 0px\; outline: 0px\; font-size: 20px\; vertical-align: baseline\; background: rgba(0\, 0\, 0\, 0)\; font-weight: 700\;" style="box-sizing: border-box\; -webkit-font-smoothing: antialiased\; margin: 0px\; padding: 0px\; border: 0px\; outline: 0px\; font-size: 20px\; vertical-align: baseline\; background: rgba(0\, 0\, 0\, 0)\; font-weight: 700\;">Merry Mountain Town decorating competition kick-off</strong></a><span style="color: rgb(0\, 0\, 0)\;">! Stop by the Downtown Welcome Center for your map\, browse the window and light displays around downtown\, and return to vote for your favorite entry.</span></span></p></body></html>
LOCATION:10 Broad Street Ellijay 30540
UID:e.3800.1321684
SEQUENCE:3
DTSTAMP:20260425T163803Z
URL:https://business.gilmerchamber.com/chamber-events/Details/merry-mountain-town-1550082?sourceTypeId=Hub
END:VEVENT
END:VCALENDAR
