BEGIN:VCALENDAR
VERSION:2.0
PRODID:-//ChamberMaster//Event Calendar 2.0//EN
METHOD:PUBLISH
X-PUBLISHED-TTL:P1H
REFRESH-INTERVAL:P1H
CALSCALE:GREGORIAN
BEGIN:VTIMEZONE
TZID:America/New_York
BEGIN:DAYLIGHT
RRULE:FREQ=YEARLY;BYMONTH=3;BYDAY=2SU
DTSTART:20070101T000000
TZOFFSETFROM:-0500
TZOFFSETTO:-0400
TZNAME:Eastern Daylight Time
END:DAYLIGHT
BEGIN:STANDARD
RRULE:FREQ=YEARLY;BYMONTH=11;BYDAY=1SU
DTSTART:20070101T000000
TZOFFSETFROM:-0400
TZOFFSETTO:-0500
TZNAME:Eastern Standard Time
END:STANDARD
END:VTIMEZONE
BEGIN:VEVENT
DTSTART;TZID=America/New_York:20260502T114500
DTEND;TZID=America/New_York:20260502T140000
X-MICROSOFT-CDO-ALLDAYEVENT:FALSE
SUMMARY:Maypole Parade and Dance at the Folk School
DESCRIPTION:Join Folk School students\, staff\, and community for our annual English tradition of the Maypole Parade and Dance in celebration of Spring. This annual event takes place Saturday\, May 2. This event is free and open to all\, with the procession beginning at Festival Barn at 11:45 a.m. Each year\, The Brasstown Morris Dancers and Band lead a parade that begins at Festival Barn and ends at the Maypole located next to Davidson Hall. Once there\, dancers dressed in white circle around the maypole to participate in several traditional ribbon dances. Puppets\, costumes\, and revelry are always part of the Folk School's May Day celebration. It's an incredible sight each year.
X-ALT-DESC;FMTTYPE=text/html:<!DOCTYPE html><html><head><title></title></head><body aria-disabled="false"><p><span style="font-size: 18px\;">Join Folk School students\, staff\, and community for our annual English tradition of the Maypole Parade and Dance in celebration of Spring. This annual event takes place Saturday\, May 2. This event is free and open to all\, with the procession beginning at Festival Barn at 11:45 a.m. Each year\, The Brasstown Morris Dancers and Band lead a parade that begins at Festival Barn and ends at the Maypole located next to Davidson Hall. Once there\, dancers dressed in white circle around the maypole to participate in several traditional ribbon dances. Puppets\, costumes\, and revelry are always part of the Folk School&rsquo\;s May Day celebration. It&rsquo\;s an incredible sight each year.</span></p></body></html>
LOCATION:1 Folk School Road Brasstown NC 28902
UID:e.3800.1435948
SEQUENCE:3
DTSTAMP:20260426T004557Z
URL:https://business.gilmerchamber.com/chamber-events/Details/maypole-parade-and-dance-at-the-folk-school-1699853?sourceTypeId=Hub
END:VEVENT
END:VCALENDAR
