BEGIN:VCALENDAR
VERSION:2.0
PRODID:-//ChamberMaster//Event Calendar 2.0//EN
METHOD:PUBLISH
X-PUBLISHED-TTL:P1H
REFRESH-INTERVAL:P1H
CALSCALE:GREGORIAN
BEGIN:VTIMEZONE
TZID:America/New_York
BEGIN:DAYLIGHT
RRULE:FREQ=YEARLY;BYMONTH=3;BYDAY=2SU
DTSTART:20070101T000000
TZOFFSETFROM:-0500
TZOFFSETTO:-0400
TZNAME:Eastern Daylight Time
END:DAYLIGHT
BEGIN:STANDARD
RRULE:FREQ=YEARLY;BYMONTH=11;BYDAY=1SU
DTSTART:20070101T000000
TZOFFSETFROM:-0400
TZOFFSETTO:-0500
TZNAME:Eastern Standard Time
END:STANDARD
END:VTIMEZONE
BEGIN:VEVENT
DTSTART;TZID=America/New_York:20260927T100000
DTEND;TZID=America/New_York:20260927T170000
X-MICROSOFT-CDO-ALLDAYEVENT:FALSE
SUMMARY:Ellijay Bacon Fest
DESCRIPTION:This event is held every September by Destination Bacon & Ellijay Tapz to give back to our community. Proceeds benefit The Gilmer Community Food Pantry. A fun filled day with bacon themed dishes\, arts/crafts\, games and live bands. It's a great way for local restaurants\, artists and musical artists to showcase their talent!
X-ALT-DESC;FMTTYPE=text/html:<!DOCTYPE html><html><head><title></title></head><body aria-disabled="false"><p><span style="font-size: 18px\;">This event is held every September by Destination Bacon &amp\; Ellijay Tapz to give back to our community. Proceeds benefit The Gilmer Community Food Pantry. A fun filled day with bacon themed dishes\, arts/crafts\, games and live bands. It&#39\;s a great way for local restaurants\, artists and musical artists to showcase their talent!</span></p></body></html>
LOCATION:1561 S. Main Street Ellijay GA 30540
UID:e.3800.1446776
SEQUENCE:3
DTSTAMP:20260426T005120Z
URL:https://business.gilmerchamber.com/chamber-events/Details/ellijay-bacon-fest-1713586?sourceTypeId=Hub
END:VEVENT
END:VCALENDAR
