BEGIN:VCALENDAR
VERSION:2.0
PRODID:-//ChamberMaster//Event Calendar 2.0//EN
METHOD:PUBLISH
X-PUBLISHED-TTL:P1H
REFRESH-INTERVAL:P1H
CALSCALE:GREGORIAN
BEGIN:VTIMEZONE
TZID:America/New_York
BEGIN:DAYLIGHT
RRULE:FREQ=YEARLY;BYMONTH=3;BYDAY=2SU
DTSTART:20070101T000000
TZOFFSETFROM:-0500
TZOFFSETTO:-0400
TZNAME:Eastern Daylight Time
END:DAYLIGHT
BEGIN:STANDARD
RRULE:FREQ=YEARLY;BYMONTH=11;BYDAY=1SU
DTSTART:20070101T000000
TZOFFSETFROM:-0400
TZOFFSETTO:-0500
TZNAME:Eastern Standard Time
END:STANDARD
END:VTIMEZONE
BEGIN:VEVENT
DTSTART;TZID=America/New_York:20260502T110000
DTEND;TZID=America/New_York:20260502T130000
X-MICROSOFT-CDO-ALLDAYEVENT:FALSE
SUMMARY:Derby Day at the Museum Fundraiser
DESCRIPTION:Ladies and Gentlemen\, North GA Mountains History Center cordially invites you to join us for our first annual Derby Day Fundraiser on Saturday\, May 2nd at 11 AM\, hosted at the history museum located at 772 Maddox Dr\, Suite 126\, East Ellijay in the Clock Tower Center. Enjoy light hors d'oeuvres\, deserts\, mocktail drinks\, a silent auction\, and votes for sale for our Derby-inspired attire\, Best-of-Competition: Best Hat\, Best Dressed (men and women)\, and Best Table. https://northgamountainshistorycenter.org/derby-day-fundraiser/
X-ALT-DESC;FMTTYPE=text/html:<!DOCTYPE html><html><head><title></title></head><body aria-disabled="false"><p><span style="font-size: 18px\;">Ladies and Gentlemen\, North GA Mountains History Center cordially invites you to join us for our first annual Derby Day Fundraiser on Saturday\, May 2nd at 11 AM\, hosted at the history museum located at 772 Maddox Dr\, Suite 126\, East Ellijay in the Clock Tower Center. Enjoy light hors d&rsquo\;oeuvres\, deserts\, mocktail drinks\, a silent auction\, and votes for sale for our Derby-inspired attire\, Best-of-Competition: Best Hat\, Best Dressed (men and women)\, and Best Table.</span></p><p><span style="font-size: 18px\;">&nbsp\;</span><a fr-original-style="" href="https://northgamountainshistorycenter.org/derby-day-fundraiser/" rel="noopener noreferrer" style="user-select: auto\;" target="_blank"><span style="font-size: 18px\;">https://northgamountainshistorycenter.org/derby-day-fundraiser/</span></a></p></body></html>
LOCATION:772 MADDOX DR Suite 126 EAST ELLIJAY GA 30539
UID:e.3800.1436692
SEQUENCE:3
DTSTAMP:20260426T004526Z
URL:https://business.gilmerchamber.com/chamber-events/Details/derby-day-at-the-museum-fundraiser-1700710?sourceTypeId=Hub
END:VEVENT
END:VCALENDAR
