BEGIN:VCALENDAR
VERSION:2.0
PRODID:-//ChamberMaster//Event Calendar 2.0//EN
METHOD:PUBLISH
X-PUBLISHED-TTL:P1H
REFRESH-INTERVAL:P1H
CALSCALE:GREGORIAN
BEGIN:VTIMEZONE
TZID:America/New_York
BEGIN:DAYLIGHT
RRULE:FREQ=YEARLY;BYMONTH=3;BYDAY=2SU
DTSTART:20070101T000000
TZOFFSETFROM:-0500
TZOFFSETTO:-0400
TZNAME:Eastern Daylight Time
END:DAYLIGHT
BEGIN:STANDARD
RRULE:FREQ=YEARLY;BYMONTH=11;BYDAY=1SU
DTSTART:20070101T000000
TZOFFSETFROM:-0400
TZOFFSETTO:-0500
TZNAME:Eastern Standard Time
END:STANDARD
END:VTIMEZONE
BEGIN:VEVENT
DTSTART;TZID=America/New_York:20260528T170000
DTEND;TZID=America/New_York:20260528T183000
X-MICROSOFT-CDO-ALLDAYEVENT:FALSE
SUMMARY:Chamber Connections at Cartecay River Brewing & Kitchen
DESCRIPTION:Join us for Chamber Connections at Cartecay River Brewing & Kitchen! This after-hours networking event is a great place to connect with other local professionals and enjoy an evening at Cartecay River Brewing & Kitchen.
X-ALT-DESC;FMTTYPE=text/html:<!DOCTYPE html><html><head><title></title></head><body aria-disabled="false"><p>Join us for Chamber Connections at Cartecay River Brewing &amp\; Kitchen! This after-hours networking event is a great place to connect with other local professionals and enjoy an evening at Cartecay River Brewing &amp\; Kitchen.</p></body></html>
LOCATION:26 River Terrace Drive\, Suite 1A Ellijay GA 30540
UID:e.3800.1441161
SEQUENCE:3
DTSTAMP:20260426T004603Z
URL:https://business.gilmerchamber.com/chamber-events/Details/chamber-connections-at-cartecay-river-brewing-kitchen-1706381?sourceTypeId=Hub
END:VEVENT
END:VCALENDAR
