BEGIN:VCALENDAR
VERSION:2.0
PRODID:-//ChamberMaster//Event Calendar 2.0//EN
METHOD:PUBLISH
X-PUBLISHED-TTL:P1H
REFRESH-INTERVAL:P1H
CALSCALE:GREGORIAN
BEGIN:VTIMEZONE
TZID:America/New_York
BEGIN:DAYLIGHT
RRULE:FREQ=YEARLY;BYMONTH=3;BYDAY=2SU
DTSTART:20070101T000000
TZOFFSETFROM:-0500
TZOFFSETTO:-0400
TZNAME:Eastern Daylight Time
END:DAYLIGHT
BEGIN:STANDARD
RRULE:FREQ=YEARLY;BYMONTH=11;BYDAY=1SU
DTSTART:20070101T000000
TZOFFSETFROM:-0400
TZOFFSETTO:-0500
TZNAME:Eastern Standard Time
END:STANDARD
END:VTIMEZONE
BEGIN:VEVENT
DTSTART;TZID=America/New_York:20260518T190000
DTEND;TZID=America/New_York:20260518T210000
X-MICROSOFT-CDO-ALLDAYEVENT:FALSE
SUMMARY:Centennial Sounds: Tray Wellington Band with Cherokee Language Repertory Choir
DESCRIPTION:The John C. Campbell Folk School is thrilled to present Centennial Sounds\, a special five-concert series celebrating the rich musical traditions of Appalachia while amplifying diverse voices shaping its future. Funded in part with a grant from the Community Foundation of Western North Carolina\, the series is part of the Folk School's yearlong 100th anniversary celebrations and will take place on select Monday evenings from May through September 2026 in the school's historic Festival Barn. \nAll shows are held in the historic Festival Barn at 7 p.m.   $25 for adults and $5 for youth. Tickets are on sale NOW at folkschool.org/sounds \nWant to be part of the magic behind the scenes? We are also looking for volunteers for Centennial Sounds! Reach out to us at folkschool.org to learn more.
X-ALT-DESC;FMTTYPE=text/html:<!DOCTYPE html><html><head><title></title></head><body aria-disabled="false"><p><span style="font-size: 18px\;">The John C. Campbell Folk School is thrilled to present Centennial Sounds\, a special five-concert series celebrating the rich musical traditions of Appalachia while amplifying diverse voices shaping its future. Funded in part with a grant from the Community Foundation of Western North Carolina\, the series is part of the Folk School&rsquo\;s yearlong 100th anniversary celebrations and will take place on select Monday evenings from May through September 2026 in the school&rsquo\;s historic Festival Barn.&nbsp\;</span></p><p><span style="font-size: 18px\;"><br></span></p><p><span style="font-size: 18px\;">All shows are held in the historic Festival Barn at 7 p.m. &mdash\; $25 for adults and $5 for youth.&nbsp\;</span></p><p><span style="font-size: 18px\;">Tickets are on sale NOW at folkschool.org/sounds&nbsp\;</span></p><p><span style="font-size: 18px\;"><br></span></p><p><span style="font-size: 18px\;">Want to be part of the magic behind the scenes? We are also looking for volunteers for Centennial Sounds! Reach out to us at folkschool.org to learn more.</span></p></body></html>
LOCATION:One Folk School Road Brasstown NC 28902
UID:e.3800.1444512
SEQUENCE:3
DTSTAMP:20260426T004846Z
URL:https://business.gilmerchamber.com/chamber-events/Details/centennial-sounds-tray-wellington-band-with-cherokee-language-repertory-choir-1710888?sourceTypeId=Hub
END:VEVENT
END:VCALENDAR
