BEGIN:VCALENDAR
VERSION:2.0
PRODID:-//ChamberMaster//Event Calendar 2.0//EN
METHOD:PUBLISH
X-PUBLISHED-TTL:P1H
REFRESH-INTERVAL:P1H
CALSCALE:GREGORIAN
BEGIN:VTIMEZONE
TZID:America/New_York
BEGIN:DAYLIGHT
RRULE:FREQ=YEARLY;BYMONTH=3;BYDAY=2SU
DTSTART:20070101T000000
TZOFFSETFROM:-0500
TZOFFSETTO:-0400
TZNAME:Eastern Daylight Time
END:DAYLIGHT
BEGIN:STANDARD
RRULE:FREQ=YEARLY;BYMONTH=11;BYDAY=1SU
DTSTART:20070101T000000
TZOFFSETFROM:-0400
TZOFFSETTO:-0500
TZNAME:Eastern Standard Time
END:STANDARD
END:VTIMEZONE
BEGIN:VEVENT
DTSTART;TZID=America/New_York:20260610T080000
DTEND;TZID=America/New_York:20260610T160000
X-MICROSOFT-CDO-ALLDAYEVENT:FALSE
SUMMARY:2nd Annual Golf Tournament
DESCRIPTION:Get ready to hit the greens! ⛳️Join the Gilmer Chamber for our 2nd Annual Golf Tournament at Whitepath Golf Course for a fun and friendly 18-hole scramble on Wednesday\, June 10th. Check-in and registration begin at 8:00 AM\, followed by a 9:00 AM shotgun start. After a great day on the course\, stick around for a private awards luncheon with food and drinks available.🔗 Register here: Eventeny link
X-ALT-DESC;FMTTYPE=text/html:<!DOCTYPE html><html><head><title></title></head><body aria-disabled="false"><p><meta charset="utf-8"></p><section data-scroll-anchor="true" data-testid="conversation-turn-2" data-turn="assistant" data-turn-id="request-WEB:7dc46cd1-d1e7-44e5-b825-5d7cbfe3da39-0" dir="auto"><div data-message-author-role="assistant" data-message-id="bccb67b2-3efb-4cef-a57b-de6285d6472a" data-message-model-slug="gpt-5-3" data-turn-start-message="true" dir="auto" tabindex="0"><p data-end="31" data-start="0"><span style="font-size: 18px\;">Get ready to hit the greens! ⛳️</span></p><p data-end="283" data-start="33"><span style="font-size: 18px\;">Join the Gilmer Chamber for our 2nd Annual Golf Tournament at Whitepath Golf Course for a fun and friendly 18-hole scramble on Wednesday\, June 10th. Check-in and registration begin at 8:00 AM\, followed by a 9:00 AM shotgun start.&nbsp\;After a great day on the course\, stick around for a private awards luncheon with food and drinks available.</span></p><p data-end="283" data-start="33"><span style="font-size: 18px\;"><strong fr-original-style="" style="font-weight: 700\;">🔗 Register here:&nbsp\;</strong></span><a fr-original-style="" href="https://www.eventeny.com/events/gilmer-chamber-golf-tournament-2026-29313/" rel="noopener noreferrer" style="user-select: auto\;" target="_blank"><span style="font-size: 18px\;"><strong fr-original-style="" style="font-weight: 700\;">Eventeny link</strong></span></a></p></div></section></body></html>
LOCATION:1156 Shenendoa Dr Ellijay GA 30540
UID:e.3800.1440687
SEQUENCE:3
DTSTAMP:20260426T004445Z
URL:https://business.gilmerchamber.com/chamber-events/Details/2nd-annual-golf-tournament-1705850?sourceTypeId=Hub
END:VEVENT
END:VCALENDAR
